BEGIN:VCALENDAR
VERSION:2.0
PRODID:-//Serap Lee Foundation - ECPv6.15.20//NONSGML v1.0//EN
CALSCALE:GREGORIAN
METHOD:PUBLISH
X-ORIGINAL-URL:https://serapleefoundation.org
X-WR-CALDESC:Events for Serap Lee Foundation
REFRESH-INTERVAL;VALUE=DURATION:PT1H
X-Robots-Tag:noindex
X-PUBLISHED-TTL:PT1H
BEGIN:VTIMEZONE
TZID:UTC
BEGIN:STANDARD
TZOFFSETFROM:+0000
TZOFFSETTO:+0000
TZNAME:UTC
DTSTART:20260101T000000
END:STANDARD
END:VTIMEZONE
BEGIN:VEVENT
DTSTART;TZID=UTC:20270429T073000
DTEND;TZID=UTC:20270430T073000
DTSTAMP:20260420T200651
CREATED:20170608T142402Z
LAST-MODIFIED:20250507T075646Z
UID:86-1808983800-1809070200@serapleefoundation.org
SUMMARY:Charity Run/Walkathon
DESCRIPTION:EVENT DESCRIPTION\nJoin the Serap Lee Foundation for our Charity Run/Walkathon\, a community-driven event aimed at raising funds to provide school supplies\, uniforms\, and infrastructure development for underprivileged children. Lace up your running shoes or walk with us to make a difference in the lives of children who deserve access to quality education. Together\, we can take steps toward a brighter future for the next generation. \nWhether you’re a seasoned runner or a casual walker\, your participation will help us break barriers to education and create opportunities for children to thrive. Let’s run\, walk\, and make an impact! \nEVENT CONTENT\nNote: For the upcoming events mentioned above\, details about the venue\, date\, and time will be announced soon. We invite you to join us in this meaningful initiative!\nCharity Run/Walkathon\nDate:\nVenue: \nEvent Highlights: \n\n5K Run/Walk: A scenic route for participants of all ages and fitness levels.\nFundraising Pledges: Collect pledges from friends and family to support the cause.\nOn-Site Registration: Sign up on the day of the event or register online in advance.\nT-Shirts and Goodie Bags: All participants will receive event T-shirts and goodie bags.\nWarm-Up Session: Kick off the event with a fun and energizing warm-up led by a fitness instructor.\nPost-Run Celebration: Enjoy refreshments\, music\, and a celebratory atmosphere after the run.\nAwards and Recognition: Prizes for top finishers and fundraisers.\nAwareness Booths: Learn more about the Serap Lee Foundation’s initiatives and how you can contribute.\n\nHow Your Participation Helps: \n\nFunds raised will provide school supplies like notebooks\, pens\, and backpacks.\nSupport the purchase of uniforms and shoes for children in need.\nContribute to building and repairing school infrastructure for safer learning environments.\n\nRegistration Details: \n\nEarly Bird Registration: $25 (until November 15th\, 2025)\nRegular Registration: $35 (November 16th – December 1st\, 2025)\nGroup Discounts: Register as a team of 5 or more and save 10%!\n\nContact Us:\nFor more information or to sponsor the event\, email us at [Insert Email] or call [Insert Phone Number]. \nLet’s run\, walk\, and make a difference together!  Your steps can change lives!
URL:https://serapleefoundation.org/event/seminor-change-the-world-2020/
CATEGORIES:Awarness,Education
ATTACH;FMTTYPE=image/jpeg:https://serapleefoundation.org/wp-content/uploads/2017/06/walkthan_big.jpg
ORGANIZER;CN="Serap Lee Foundation":MAILTO:info@serapleefoundation.org
END:VEVENT
END:VCALENDAR