BEGIN:VCALENDAR
VERSION:2.0
PRODID:-//Serap Lee Foundation - ECPv6.15.20//NONSGML v1.0//EN
CALSCALE:GREGORIAN
METHOD:PUBLISH
X-ORIGINAL-URL:https://serapleefoundation.org
X-WR-CALDESC:Events for Serap Lee Foundation
REFRESH-INTERVAL;VALUE=DURATION:PT1H
X-Robots-Tag:noindex
X-PUBLISHED-TTL:PT1H
BEGIN:VTIMEZONE
TZID:UTC
BEGIN:STANDARD
TZOFFSETFROM:+0000
TZOFFSETTO:+0000
TZNAME:UTC
DTSTART:20250101T000000
END:STANDARD
END:VTIMEZONE
BEGIN:VEVENT
DTSTART;TZID=UTC:20260116T072800
DTEND;TZID=UTC:20260129T072800
DTSTAMP:20260420T231850
CREATED:20250311T053630Z
LAST-MODIFIED:20250507T081245Z
UID:3041-1768548480-1769671680@serapleefoundation.org
SUMMARY:Documentary Screenings: Shree Natheswori Primary School
DESCRIPTION:Join us for an inspiring evening of storytelling and impact! The Serap Lee Foundation is proud to present a special documentary screening event dedicated to Shree Natheswori Primary School\, highlighting the challenges and triumphs of education in underprivileged communities. \nThrough powerful films and documentaries\, we’ll showcase the resilience of students\, the dedication of teachers\, and the transformative power of education. This event aims to raise awareness\, inspire action\, and mobilize support for Shree Natheswori Primary School and similar initiatives. \nEvent Details:\nNote: For the upcoming events mentioned above\, details about the venue\, date\, and time will be announced soon. We invite you to join us in this meaningful initiative!\nDate:\nVenue: \nFilms Featured: \n\nStories of students overcoming barriers to education.\nSuccess stories of communities coming together to support schools.\nInsights into the impact of donor support on children’s futures.\n\nWhy Attend? \n\nGain a deeper understanding of the challenges faced by underprivileged schools.\nBe inspired by stories of hope\, perseverance\, and transformation.\nLearn how you can make a difference through donations\, volunteering\, or advocacy.\n\nRSVP Now!\nSpaces are limited\, so reserve your seat today. Let’s come together to create a brighter future for the children of Shree Natheswori Primary School and beyond. \nFor more information\, contact us at info@serapleefoundation.org/ +19177538468 or visit www.serapleefoundation.org \nSerap Lee Foundation\nEmpowering Education\, Transforming Lives
URL:https://serapleefoundation.org/event/documentary-screenings-shree-natheswori-primary-school/
CATEGORIES:Awarness,Education
ATTACH;FMTTYPE=image/jpeg:https://serapleefoundation.org/wp-content/uploads/2016/01/four_big.jpg
ORGANIZER;CN="Serap Lee Foundation":MAILTO:info@serapleefoundation.org
END:VEVENT
END:VCALENDAR