BEGIN:VCALENDAR
VERSION:2.0
PRODID:-//Serap Lee Foundation - ECPv6.15.20//NONSGML v1.0//EN
CALSCALE:GREGORIAN
METHOD:PUBLISH
X-ORIGINAL-URL:https://serapleefoundation.org
X-WR-CALDESC:Events for Serap Lee Foundation
REFRESH-INTERVAL;VALUE=DURATION:PT1H
X-Robots-Tag:noindex
X-PUBLISHED-TTL:PT1H
BEGIN:VTIMEZONE
TZID:UTC
BEGIN:STANDARD
TZOFFSETFROM:+0000
TZOFFSETTO:+0000
TZNAME:UTC
DTSTART:20260101T000000
END:STANDARD
END:VTIMEZONE
BEGIN:VEVENT
DTSTART;TZID=UTC:20270429T090000
DTEND;TZID=UTC:20270429T090000
DTSTAMP:20260420T141525
CREATED:20170805T142441Z
LAST-MODIFIED:20250507T080403Z
UID:91-1808989200-1808989200@serapleefoundation.org
SUMMARY:Join Us for Volunteer Days – Make a Difference for Children in Nepal!
DESCRIPTION:EVENT DESCRIPTION\nThe Serap Lee Foundation is excited to announce Volunteer Days\, a special event dedicated to supporting underprivileged schoolchildren in remote and impoverished areas of Nepal. The event will be held soon—details regarding the venue\, date\, and time will be announced shortly. We invite you to join us in this meaningful initiative! \nIn Nepal\, countless children face significant barriers to education due to inadequate school infrastructure\, lack of resources\, and extreme poverty. Many schools in remote areas lack proper classrooms\, furniture\, and even basic supplies like textbooks and uniforms. Through Volunteer Days\, we aim to mobilize compassionate individuals like you to help address these challenges and create a brighter future for these children. \nDuring this event\, volunteers will have the opportunity to contribute in various ways\, including: \n\nBuilding and Repairing Schools: Help fundraise and plan initiatives to construct or repair school buildings in Nepal.\nDistributing Supplies: Pack and organize essential school supplies\, such as notebooks\, pens\, backpacks\, and uniforms\, to be sent to Nepal.\nTeaching and Mentoring: Participate in virtual teaching sessions or create educational materials for children in remote areas.\n\nYour efforts during Volunteer Days will directly impact the lives of children who dream of a better future. Together\, we can break the cycle of poverty and provide these children with the tools they need to succeed. \nEvent Details: Note: details regarding the venue\, date\, and time will be announced shortly. We invite you to join us in this meaningful initiative! \n\nDate:\nTime:\nVenue:\nFor Inquiry: info@serapleefoundation.org/ +19177538468 or visit www.serapleefoundation.org\n\nJoin us for a day of purpose\, compassion\, and community. Let’s come together to make a lasting difference for the children of Nepal. \nEvent Contents for Volunteer Days\n1. Welcome and Introduction (9:00 AM – 9:30 AM) \n\nWelcome speech by the Serap Lee Foundation team.\nOverview of the foundation’s mission and the challenges faced by children in remote Nepal.\nIntroduction to the day’s activities and goals.\n\n2. School Building and Repair Initiatives (9:30 AM – 11:00 AM) \n\nPresentation on the current state of school infrastructure in remote Nepal.\nGroup discussions on fundraising and planning for construction projects.\nHands-on activity: Assemble model school designs or create blueprints for future projects.\n\n3. School Supply Drive and Packing (11:00 AM – 1:00 PM) \n\nOrganize and pack donated school supplies (notebooks\, pens\, backpacks\, uniforms\, etc.).\nWrite encouraging notes or draw pictures to include in the supply packages for children.\nLearn about the logistics of shipping supplies to Nepal.\n\n4. Lunch and Networking (1:00 PM – 2:00 PM) \n\nEnjoy a complimentary lunch while connecting with fellow volunteers.\nShare ideas and experiences about supporting education in underserved communities.\n\n5. Teaching and Mentoring Workshop (2:00 PM – 3:30 PM) \n\nInteractive session on creating educational materials for children in Nepal.\nIntroduction to virtual teaching tools and techniques for remote learning.\nGroup activity: Develop lesson plans or educational games for students.\n\n6. Fundraising and Awareness Campaign (3:30 PM – 4:30 PM) \n\nBrainstorm creative fundraising ideas to support ongoing projects.\nLearn how to advocate for the cause and spread awareness in your community.\nLaunch a social media campaign to share the day’s activities and goals.\n\n7. Closing Ceremony and Acknowledgments (4:30 PM – 5:00 PM) \n\nRecap of the day’s achievements and next steps.\nThank you notes and certificates for volunteers.\nGroup photo and final remarks.\n\nContent for Volunteer Days Based on Inadequate Infrastructure and Poor Children in Nepal\nThe Challenge\nIn the remote areas of Nepal\, thousands of children attend schools with crumbling walls\, leaky roofs\, and no access to basic facilities like clean water or toilets. Many schools lack proper furniture\, forcing children to sit on the floor. Additionally\, families in these regions struggle to afford school supplies\, uniforms\, and even meals\, making it difficult for children to stay in school. \nHow Volunteer Days Will Help\nVolunteer Days is designed to address these challenges by: \n\nImproving School Infrastructure: Funds raised during the event will go toward building and repairing schools\, ensuring children have a safe and conducive learning environment.\nProviding Essential Supplies: Volunteers will pack and send school supplies to Nepal\, ensuring children have the tools they need to learn.\nEnhancing Education: Through teaching and mentoring initiatives\, volunteers will help improve the quality of education for children in remote areas.\n\nYour Role as a Volunteer\nBy participating in Volunteer Days\, you will: \n\nContribute to building a brighter future for children in Nepal.\nGain a deeper understanding of the challenges faced by underprivileged communities.\nBe part of a global movement to promote education and equality.\n\nJoin Us\nYour time and effort can transform lives. Register now for Volunteer Days and be a part of this impactful initiative. Together\, we can ensure that every child in Nepal has access to quality education and the opportunity to thrive. \nEvent Details: \n\nDate:\nTime:\nVenue:\nFor Inqiry: info@serapleefoundation.org/ +19177538468 or visit www.serapleefoundation.org\n\nLet’s come together to make a difference – one child\, one school\, one community at a time.
URL:https://serapleefoundation.org/event/love-to-help-awarness-event/
CATEGORIES:Building
ATTACH;FMTTYPE=image/jpeg:https://serapleefoundation.org/wp-content/uploads/2017/08/volunteer_big.jpg
END:VEVENT
BEGIN:VEVENT
DTSTART;TZID=UTC:20270901T100000
DTEND;TZID=UTC:20270901T100000
DTSTAMP:20260420T141525
CREATED:20170803T142419Z
LAST-MODIFIED:20250507T080637Z
UID:88-1819792800-1819792800@serapleefoundation.org
SUMMARY:Digital Literacy Camps: Empowering Children in Remote Nepal
DESCRIPTION:EVENT DESCRIPTION\nThe Serap Lee Foundation is proud to announce its Digital Literacy Camps\, an initiative designed to bridge the digital divide for school  children in poor\, remote areas of Nepal. The venue and date for this event will be announced soon\, bringing together educators\, tech experts\, and supporters to empower children with essential digital skills. \nIn today’s technology-driven world\, access to computers and the internet is crucial for education and future opportunities. However\, many children in remote Nepal lack the resources and knowledge to harness the power of technology. Through these camps\, we aim to equip children and their communities with the skills to use computers and the internet effectively\, opening doors to a world of knowledge and opportunities. \nThis event will not only raise awareness about the digital challenges faced by children in remote areas but also generate funds to provide computers\, internet access\, and training programs in Nepal. Join us in creating a brighter future for these children by supporting their journey toward digital literacy. \nEVENT CONTENT\n1. Interactive Workshops \n\nBasic Computer Skills: Teach children how to operate computers\, use keyboards\, and navigate operating systems.\nInternet Navigation: Show participants how to safely and effectively use the internet for learning and research.\nDigital Tools for Education: Introduce educational software\, online learning platforms\, and digital resources.\n\n2. Hands-On Training Sessions \n\nCoding Basics: Introduce children to simple coding concepts through fun\, interactive activities.\nDigital Creativity: Teach kids how to create digital art\, presentations\, and videos.\nOnline Safety: Educate children and communities about internet safety\, privacy\, and responsible online behavior.\n\n3. Panel Discussions \n\nBridging the Digital Divide: Hear from experts\, educators\, and activists about the importance of digital literacy in remote areas.\nSuccess Stories: Learn how digital literacy has transformed the lives of children in similar communities.\n\n4. Fundraising Activities \n\nSilent Auction: Bid on unique items and experiences\, with proceeds going toward providing computers and internet access for schools in Nepal.\nDonation Booths: Contribute directly to the cause and learn about sponsorship opportunities.\n\n5. Cultural Showcase \n\nNepali Cultural Performances: Enjoy traditional music\, dance\, and art that celebrate the rich heritage of Nepal.\nStudent Art Exhibition: View artwork created by children from remote Nepali schools\, showcasing their creativity and dreams.\n\n6. Networking and Collaboration \n\nMeet the Team: Connect with the Serap Lee Foundation team and learn more about our ongoing projects.\nPartnership Opportunities: Explore ways to collaborate with us to expand our digital literacy initiatives.\n\n7. Virtual Participation \n\nLive Streaming: For those unable to attend in person\, the event will be live-streamed\, allowing global supporters to participate and contribute.\n\n\nWhy Attend?\nBy attending the Digital Literacy Camps\, you will: \n\nHelp empower children in remote Nepal with life-changing digital skills.\nSupport the Serap Lee Foundation’s mission to provide computers\, internet access\, and training programs.\nGain insights into the challenges and opportunities of digital education in underserved communities.\nBe part of a global movement to bridge the digital divide and create equal opportunities for all children.\n\n\nEvent Details\nNote: For the upcoming events mentioned above\, details about the venue\, date\, and time will be announced soon. We invite you to join us in this meaningful initiative!\nDate:\nVenue: \nGet connected with us to make a lasting impact on the lives of children in remote Nepal. Together\, we can empower them with the tools they need to succeed in a digital world. \nFor more information or to RSVP\, contact us at info@serapleefoundation.org/ +19177538468 or visit www.serapleefoundation.org \nSerap Lee Foundation\nEmpowering Education\, Transforming Lives
URL:https://serapleefoundation.org/event/raise-your-hands-against-cancer/
CATEGORIES:Awarness,Building,Education
ATTACH;FMTTYPE=image/jpeg:https://serapleefoundation.org/wp-content/uploads/2017/08/digital_big.jpg
END:VEVENT
END:VCALENDAR